BEGIN:VCALENDAR
VERSION:2.0
PRODID:-//wp-events-plugin.com//7.2.3.1//EN
TZID:America/Caracas
X-WR-TIMEZONE:America/Caracas
BEGIN:VEVENT
UID:2@nh.com.ve
DTSTART;TZID=America/Caracas:20230501T120000
DTEND;TZID=America/Caracas:20230501T140000
DTSTAMP:20230424T130136Z
URL:http://www.nh.com.ve/blog/cartelera_teatroNH/celebracion-dia-internaci
 onal-del-trabajador/
SUMMARY:Celebración Dia Internacional del Trabajador
DESCRIPTION:NH pensando en sus trabajadores celebra el dia del trabajador.
ATTACH;FMTTYPE=image/jpeg:http://www.nh.com.ve/blog/wp-content/uploads/202
 2/02/Copia-de-Logo-NH®-2.png
CATEGORIES:Cultural
LOCATION:Restaurante Wilgout\, Sambil Paraguana\, Punto Fijo\, Falcon\, 410
 2\, Occidental\, Venezuela
X-APPLE-STRUCTURED-LOCATION;VALUE=URI;X-ADDRESS=Sambil Paraguana\, Punto Fi
 jo\, Falcon\, 4102\, Occidental\, Venezuela;X-APPLE-RADIUS=100;X-TITLE=Res
 taurante Wilgout:geo:0,0
END:VEVENT
BEGIN:VTIMEZONE
TZID:America/Caracas
X-LIC-LOCATION:America/Caracas
BEGIN:STANDARD
DTSTART:20220501T120000
TZOFFSETFROM:-0400
TZOFFSETTO:-0400
TZNAME:-04
END:STANDARD
END:VTIMEZONE
END:VCALENDAR