BEGIN:VCALENDAR
VERSION:2.0
PRODID:-//wp-events-plugin.com//7.2.3.1//EN
TZID:America/Caracas
X-WR-TIMEZONE:America/Caracas
BEGIN:VEVENT
UID:9@nh.com.ve
DTSTART;TZID=America/Caracas:20241025T090000
DTEND;TZID=America/Caracas:20241025T110000
DTSTAMP:20241021T194129Z
URL:http://www.nh.com.ve/blog/cartelera_teatroNH/ciclo-de-charlas-el-abraz
 o-como-herramienta-para-gestionar-el-duelo/
SUMMARY:Ciclo de Charlas. Charla I "EL ABRAZO COMO HERRAMIENTA PARA GESTION
 AR EL DUELO"
DESCRIPTION:\nCiclo de Charlas.\nCharla I "EL ABRAZO COMO HERRAMIENTA PARA 
 GESTIONAR EL DUELO"\n\nSinopsis\nEl abrazo como herramienta para afrontar 
 el duelo es uno de los tópicos importante del programa senamecf educa que
  sirve como medio de integración psicológico para afrontar y ayudar aque
 llas personas que están pasando por un proceso de duelo y no saben cómo 
 manejarlo.\nEl abrazo es una forma de felicidad es el medio de comunicaci
 ón que no necesita ser expresado con palabras utilizando esta herramienta
  ayudamos a disminuir el stress dar esa sensación de seguridad y protecci
 ón que algunas personas necesitan y se niegan aceptar por medio al rechaz
 o.\nA través del Ministerio de Nuevas Expresiones de la Catedral Nuestra 
 Señora de Coromoto te abrimos una ventana para conocer la aceptación y l
 a sanación a través del ABRAZO\n\nPresentado por: SENAMECF PUNTO FIJO\n\
 n\nENTRADA LIBRE!!!
ATTACH;FMTTYPE=image/jpeg:http://www.nh.com.ve/blog/wp-content/uploads/202
 4/10/flyer-charla-1b.png
CATEGORIES:Conferencias,Cultural
LOCATION:Teatro NH\, Piso 1\, Edificio Antonela\, C. Paez\, \, Punto Fijo\,
  Falcón\, 4102\, Venezuela
X-APPLE-STRUCTURED-LOCATION;VALUE=URI;X-ADDRESS=Piso 1\, Edificio Antonela\
 , C. Paez\, \, Punto Fijo\, Falcón\, 4102\, Venezuela;X-APPLE-RADIUS=100;
 X-TITLE=Teatro NH:geo:0,0
END:VEVENT
BEGIN:VTIMEZONE
TZID:America/Caracas
X-LIC-LOCATION:America/Caracas
BEGIN:STANDARD
DTSTART:20231026T090000
TZOFFSETFROM:-0400
TZOFFSETTO:-0400
TZNAME:-04
END:STANDARD
END:VTIMEZONE
END:VCALENDAR