BEGIN:VCALENDAR
VERSION:2.0
PRODID:-//wp-events-plugin.com//7.2.3.1//EN
TZID:America/Caracas
X-WR-TIMEZONE:America/Caracas
BEGIN:VEVENT
UID:3@nh.com.ve
DTSTART;TZID=America/Caracas:20230624T143000
DTEND;TZID=America/Caracas:20230624T161500
DTSTAMP:20230620T001649Z
URL:http://www.nh.com.ve/blog/cartelera_teatroNH/cine-super-mario-bros-la-
 pelicula/
SUMMARY:CINE: SUPER MARIO BROS. LA PELÍCULA
DESCRIPTION:Adaptación de la serie de videojuegos de Nintendo. La películ
 a cuenta la historia de Mario y Luigi\, dos hermanos que viajan a un mundo
  oculto para rescatar a la Princesa Peach\, capturada por el malvado Rey B
 owser. Las cosas\, sin embargo no serán sencillas. Mario y Luigi tendrán
  que enfrentarse a un ejército de setas animadas antes de luchar contra s
 u oponente. Rutas de ladrillos y castillos con múltiples peligros serán 
 algunos de los obstáculos que los hermanos tendrán que superar para cons
 eguir su objetivo.
ATTACH;FMTTYPE=image/jpeg:http://www.nh.com.ve/blog/wp-content/uploads/202
 3/06/mariobros.jpeg
CATEGORIES:Cine Familiar
LOCATION:Teatro NH\, Piso 1\, Edificio Antonela\, C. Paez\, \, Punto Fijo\,
  Falcón\, 4102\, Venezuela
X-APPLE-STRUCTURED-LOCATION;VALUE=URI;X-ADDRESS=Piso 1\, Edificio Antonela\
 , C. Paez\, \, Punto Fijo\, Falcón\, 4102\, Venezuela;X-APPLE-RADIUS=100;
 X-TITLE=Teatro NH:geo:0,0
END:VEVENT
BEGIN:VTIMEZONE
TZID:America/Caracas
X-LIC-LOCATION:America/Caracas
BEGIN:STANDARD
DTSTART:20220624T143000
TZOFFSETFROM:-0400
TZOFFSETTO:-0400
TZNAME:-04
END:STANDARD
END:VTIMEZONE
END:VCALENDAR