BEGIN:VCALENDAR
VERSION:2.0
PRODID:-//wp-events-plugin.com//7.2.3.1//EN
TZID:America/Caracas
X-WR-TIMEZONE:America/Caracas
BEGIN:VEVENT
UID:5@nh.com.ve
DTSTART;TZID=America/Caracas:20230712T140000
DTEND;TZID=America/Caracas:20230712T160000
DTSTAMP:20230711T170059Z
URL:http://www.nh.com.ve/blog/cartelera_teatroNH/concierto-anivesario-sist
 ema-orquesta-nucleo-fanb-falcon/
SUMMARY:CONCIERTO ANIVERSARIO SISTEMA DE ORQUESTA NUCLEO FANB FALCON
DESCRIPTION:\nCon motivo de celebrar los 9 años de la fundación  del Sis
 tema de Orquesta Fuerzas Armadas Nacionales Bolivarianas de Falcón (FANB-
 FALCON)\, se estará llevando a cabo\, este miércoles 12 a partir de las 
 2:00 p.m. en las instalaciones del Teatro NH\, un recital bajo la batuta d
 e la Prof. Eylin Moreno\, Fundadora y Directora de este núcleo\, quien no
 s estará presentando una muestra musical variada a cargo de la Orquesta y
  Coro Juvenil e Infantil\, dando cierre al fin de año escolar.\n\nEntrada
  Gratis.
ATTACH;FMTTYPE=image/jpeg:http://www.nh.com.ve/blog/wp-content/uploads/202
 3/07/concierto-fanb.jpg
CATEGORIES:Cultural
LOCATION:Teatro NH\, Piso 1\, Edificio Antonela\, C. Paez\, \, Punto Fijo\,
  Falcón\, 4102\, Venezuela
X-APPLE-STRUCTURED-LOCATION;VALUE=URI;X-ADDRESS=Piso 1\, Edificio Antonela\
 , C. Paez\, \, Punto Fijo\, Falcón\, 4102\, Venezuela;X-APPLE-RADIUS=100;
 X-TITLE=Teatro NH:geo:0,0
END:VEVENT
BEGIN:VTIMEZONE
TZID:America/Caracas
X-LIC-LOCATION:America/Caracas
BEGIN:STANDARD
DTSTART:20220712T140000
TZOFFSETFROM:-0400
TZOFFSETTO:-0400
TZNAME:-04
END:STANDARD
END:VTIMEZONE
END:VCALENDAR