BEGIN:VCALENDAR
VERSION:2.0
PRODID:-//wp-events-plugin.com//7.2.3.1//EN
TZID:America/Caracas
X-WR-TIMEZONE:America/Caracas
BEGIN:VEVENT
UID:10@nh.com.ve
DTSTART;TZID=America/Caracas:20241102T150000
DTEND;TZID=America/Caracas:20241102T170000
DTSTAMP:20241029T165055Z
URL:http://www.nh.com.ve/blog/cartelera_teatroNH/green-note/
SUMMARY:Evento Musical "GREEN NOTE"
DESCRIPTION:\nGREEN NOTE\n\nEs un Evento Musical con resonancia nacional pr
 esentado por la agrupación Specialissimo Jazz\, basado en la temática 
 “El Jazz es Para Todos”. El propósito principal es mostrar una altern
 ativa de propuesta musical en nuestra región\, de alta calidad y prestanc
 ia\, que demuestre que el Jazz es ameno\, agradable y muy divertido (para 
 disfrutarlo como espectadores y como intérpretes): ¡Por eso es para todo
 s!\n\n\nEl repertorio está conformado por temas de diversos géneros musi
 cales: desde clásicos del Jazz\, pasando por nuestra música (nacionalist
 a)\, Bossa-Nova\, hasta lo más reciente del Jazz Fusión.\n\nAdemás de l
 a banda\, participarán cuatro (4) músicos – artistas en calidad de inv
 itados especiales\, no solamente para mostrar la calidad\, destrezas y tal
 entos individuales\, sino también para mostrar que la música es para tod
 os\, ¡y el Jazz también!\n\nSpecialissimo Jazz  es una organización  
 académico  musical que tiene como principal función\, difundir la cultu
 ra y la educación  sobre el jazz\, en alianza con el Conservatorio  Mus
 ical del Estado Falcón.\n\nEsta Banda Musical\, tiene como base la corrie
 nte del Electro – Jazz\, que se puede definir como el Jazz Fusión  apl
 icando  instrumentos  musicales  electrónicos\, basando  las interpre
 taciones en las características y bondades  de estos\, ofreciendo  una 
 experiencia  musical  con sensaciones  y bienestar  espiritual\, total
 mente distintas y novedosas a otras experiencias.  Esto incluye a nuestro
 s géneros musicales nacionalistas.\n\nEsta liderada\, en sus roles de Dir
 ector Musical y Administrador  General\,  por el Licenciado  en Educaci
 ón  Musical Francisco  J. Petit D. Además\, certificado en las especia
 lidades de Arreglista Musical  y Jazz por la Escuela  de Artes  Musical
 es “Aldemaro Romero”.\n\nAsí mismo\, la banda musical está conformad
 a por:\n\n 	Salomé López – Cantante.\n 	Diego Díaz – Guitarra.\n 	M
 arco Petit – Piano\, Teclado.\n 	Josué Cossi – Batería\, Percusión.
 \n 	Francisco Petit – Bajo\, Cantante\, Director Musical.\n\nMúsicos y 
 Artistas Invitados.\n\n 	Lisbeth Martínez – Cantante.\n 	José Gregorio
  Hernández – Saxofonista\, Flauta Transversa.\n 	Marcos Vásquez – Tr
 ompetista\, violinista\, bandolinista\, Director del Núcleo FUNDAMUSICAL\
 , sede de las Fuerzas Armadas de Paraguaná.\n 	William Hernández  – C
 ontrabajista\, arpista\, miembro de la prestigiosa agrupación “Serenata
  Guayanesa”\; Formador  del  Programa  “Alma Llanera” (FIAM)  a 
 nivel Regional\, de FUNDAMUSICAL\n\n\nNo se lo pueden perder!!!!\n\nSabado
  02 de noviembre del 2024\nHora: 03:00 p.m.\nColaboración: 3$\n
ATTACH;FMTTYPE=image/jpeg:http://www.nh.com.ve/blog/wp-content/uploads/202
 4/10/WhatsApp-Image-2024-10-29-at-8.45.25-AM.jpeg
CATEGORIES:Cultural,Espectáculo
LOCATION:Teatro NH\, Piso 1\, Edificio Antonela\, C. Paez\, \, Punto Fijo\,
  Falcón\, 4102\, Venezuela
X-APPLE-STRUCTURED-LOCATION;VALUE=URI;X-ADDRESS=Piso 1\, Edificio Antonela\
 , C. Paez\, \, Punto Fijo\, Falcón\, 4102\, Venezuela;X-APPLE-RADIUS=100;
 X-TITLE=Teatro NH:geo:0,0
END:VEVENT
BEGIN:VTIMEZONE
TZID:America/Caracas
X-LIC-LOCATION:America/Caracas
BEGIN:STANDARD
DTSTART:20231103T150000
TZOFFSETFROM:-0400
TZOFFSETTO:-0400
TZNAME:-04
END:STANDARD
END:VTIMEZONE
END:VCALENDAR