BEGIN:VCALENDAR
VERSION:2.0
PRODID:-//wp-events-plugin.com//7.2.3.1//EN
TZID:America/Caracas
X-WR-TIMEZONE:America/Caracas
BEGIN:VEVENT
UID:4@nh.com.ve
DTSTART;TZID=America/Caracas;VALUE=DATE:20230630
DTEND;TZID=America/Caracas;VALUE=DATE:20230701
DTSTAMP:20230627T155159Z
URL:http://www.nh.com.ve/blog/cartelera_teatroNH/jornada-periodistica-para
 guana-2023/
SUMMARY:JORNADA PERIODÍSTICA PARAGUANÁ 2023
DESCRIPTION:\nSINOPSIS\n\nJornada Periodística Paraguaná 2023\, actividad
  a realizarse en el marco del mes nacional del periodista y a beneficio de
  la Licda. Ruth Cuauro\, dirigida a estudiantes de Comunicación Social\, 
 TSU en Producción Audiovisual\, Periodistas y profesionales de carreras a
 fines.\nContará con un papel de Ponentes de reconocida trayectoria period
 ística a nivel Regional y Nacional.\n\nPonencias:\n-Redes que enredan / L
 icdo. Pedro Colina Depool.\n-Periodismo Radial y recomendaciones para el c
 uidado de la voz / Licda.Ariana Méndez Lugo y Licdo. Néstor Landaeta.\n-
 Periodismo Institucional / Licda. Lourdes Sánchez y Licdo. Pedro José Ar
 caya.\n-Periodismo y Literatura / Dr. Guillermo de León Calles.\n-Periodi
 smo deportivo: Cómo sacarla de jonrón para una Medalla de Oro / Licdo. E
 pifanio Petit\, Licdo. Tomás Romero Durán y Licdo. Herberto León Bermud
 ez.\n-Mi vida es comunicar con cuerpo\, mente y espíritu / Licda. Nairobi
 s Peña.-La historia del día y el periodismo de investigación / Dr. Salo
 món Lugo Colina.-Periodismo escrito\, el poder de la palabra impresa y di
 gital / Licdo. Luis Aular Leal.-Periodismo televisivo  / Licdo. Martí Hu
 rtado y Pimentel.\n\n\nColaboracion 5$
ATTACH;FMTTYPE=image/jpeg:http://www.nh.com.ve/blog/wp-content/uploads/202
 3/06/flyer-cnp-ahora-si-1.png
CATEGORIES:Conferencias
LOCATION:Teatro NH\, Piso 1\, Edificio Antonela\, C. Paez\, \, Punto Fijo\,
  Falcón\, 4102\, Venezuela
X-APPLE-STRUCTURED-LOCATION;VALUE=URI;X-ADDRESS=Piso 1\, Edificio Antonela\
 , C. Paez\, \, Punto Fijo\, Falcón\, 4102\, Venezuela;X-APPLE-RADIUS=100;
 X-TITLE=Teatro NH:geo:0,0
END:VEVENT
BEGIN:VTIMEZONE
TZID:America/Caracas
X-LIC-LOCATION:America/Caracas
BEGIN:STANDARD
DTSTART:20220630T000000
TZOFFSETFROM:-0400
TZOFFSETTO:-0400
TZNAME:-04
END:STANDARD
END:VTIMEZONE
END:VCALENDAR