BEGIN:VCALENDAR
VERSION:2.0
PRODID:-//wp-events-plugin.com//7.2.3.1//EN
TZID:America/Caracas
X-WR-TIMEZONE:America/Caracas
BEGIN:VEVENT
UID:7@nh.com.ve
DTSTART;TZID=America/Caracas:20240824T180000
DTEND;TZID=America/Caracas:20240824T200000
DTSTAMP:20240819T173333Z
URL:http://www.nh.com.ve/blog/cartelera_teatroNH/obra-teatro-clue/
SUMMARY:CLUE\, El Juego de la Sospecha!!
DESCRIPTION:\n\nCLUE "El juego de la sospecha"\n\nSinopsis\nEn una gran y a
 partada mansión se reúnen varios personajes pintorescos gracias a una mi
 steriosa invitación de un anfitrión desconocido. Todos ellos tienen secr
 etos que ocultar por los que son vilmente chantajeados. Cuando la mansión
  se queda a oscuras en medio de una tormenta por culpa de un momentáneo a
 pagón de luz\, el chantajista aparece asesinado por uno de los huéspedes
 !!! Ahora\, deben averiguar quién de ellos ha sido el culpable. Una tarea
  muy complicada teniendo en cuenta que todos ellos tenían motivos de peso
  para cometer el crimen.\n\nAdaptación de Alejandro J. Hernández S.\n\nC
 ompañía de artes escénicas *Sacro*\n\nGénero: Comedia\, intriga y crim
 en.\n\nReparto:\nSeñorita Grey @nellyareyes\nScarlett @heylyrodriguez\nPr
 ofesor Ciruela @luisjimlaguna\nSeñor Black @ronnyjromerom\nDra. White @ho
 ddrahernandez\nPadre Prado @nestorperaltav\nSeñora Peacock @glendamarsn51
 7\nCoronel Mostaza @franciscoprieto96\n\n\n\nColaboracion 5$
ATTACH;FMTTYPE=image/jpeg:http://www.nh.com.ve/blog/wp-content/uploads/202
 4/08/IMG-20240807-WA0045.jpg
CATEGORIES:Cultural
LOCATION:Teatro NH\, Piso 1\, Edificio Antonela\, C. Paez\, \, Punto Fijo\,
  Falcón\, 4102\, Venezuela
X-APPLE-STRUCTURED-LOCATION;VALUE=URI;X-ADDRESS=Piso 1\, Edificio Antonela\
 , C. Paez\, \, Punto Fijo\, Falcón\, 4102\, Venezuela;X-APPLE-RADIUS=100;
 X-TITLE=Teatro NH:geo:0,0
END:VEVENT
BEGIN:VTIMEZONE
TZID:America/Caracas
X-LIC-LOCATION:America/Caracas
BEGIN:STANDARD
DTSTART:20230825T180000
TZOFFSETFROM:-0400
TZOFFSETTO:-0400
TZNAME:-04
END:STANDARD
END:VTIMEZONE
END:VCALENDAR