BEGIN:VCALENDAR
VERSION:2.0
PRODID:-//wp-events-plugin.com//7.2.3.1//EN
TZID:America/Caracas
X-WR-TIMEZONE:America/Caracas
BEGIN:VEVENT
UID:1@nh.com.ve
DTSTART;TZID=America/Caracas:20230429T030000
DTEND;TZID=America/Caracas:20230429T044500
DTSTAMP:20230418T230634Z
URL:http://www.nh.com.ve/blog/cartelera_teatroNH/pelicula-eres-tu/
SUMMARY:Película - Eres tú
DESCRIPTION:\n\n\n\n\n\nJavier tenía 16 años cuando besó por primera vez
  a una chica y descubrió que tenía el don de la clarividencia amorosa. C
 on tan solo un beso es capaz de ver el futuro de esa relación. Todo cambi
 a cuando besa a Lucía\, la novia de su mejor amigo.\n\n\n\n\n\n\n\nFecha 
 de estreno inicial: 3 de marzo de 2023\n\n\n\n\n\n\nDirectora: Alauda Ru
 iz de Azúa\n\n\n\n\n\n\nDistribuidor: Netflix\n\n\n\n\n\n\nCinematograf
 ía: Sergi Gallardo\n\n\n\n\n\n\nProductor ejecutivo: Miriam Rodríguez\
 n\n\n\n\n\n\nIdioma: Idioma español\n\n\n
LOCATION:Teatro NH\, Piso 1\, Edificio Antonela\, C. Paez\, \, Punto Fijo\,
  Falcón\, 4102\, Venezuela
X-APPLE-STRUCTURED-LOCATION;VALUE=URI;X-ADDRESS=Piso 1\, Edificio Antonela\
 , C. Paez\, \, Punto Fijo\, Falcón\, 4102\, Venezuela;X-APPLE-RADIUS=100;
 X-TITLE=Teatro NH:geo:0,0
END:VEVENT
BEGIN:VTIMEZONE
TZID:America/Caracas
X-LIC-LOCATION:America/Caracas
BEGIN:STANDARD
DTSTART:20220429T030000
TZOFFSETFROM:-0400
TZOFFSETTO:-0400
TZNAME:-04
END:STANDARD
END:VTIMEZONE
END:VCALENDAR