BEGIN:VCALENDAR
VERSION:2.0
PRODID:-//wp-events-plugin.com//7.2.3.1//EN
TZID:America/Caracas
X-WR-TIMEZONE:America/Caracas
BEGIN:VEVENT
UID:6@nh.com.ve
DTSTART;TZID=America/Caracas;VALUE=DATE:20230721
DTEND;TZID=America/Caracas;VALUE=DATE:20230722
DTSTAMP:20230720T111201Z
URL:http://www.nh.com.ve/blog/cartelera_teatroNH/taller-dalcroze/
SUMMARY:INICIACIÓN AL MÉTODO RÍTMICO - TALLER DALCROZE
DESCRIPTION:Taller Musical Rítmica DALCROZE\, es una propuesta creada por 
 el músico pedagogo suizo EMILE JACKES DALCROZE a mediados del siglo XX\, 
 metodología que involucra la integralidad del cuerpo humano y nuestros se
 ntidos para comprender mejor el arte auditivo\, ésta se desarrolla en div
 ersas escuelas y conservatorios en todo el mundo\, por ser la más integra
 l entre todas\, también practicada en LAS ARTES ESCÉNICAS\; DANZA Y TEAT
 RO\n\nLa educación musical tradicional nos ha privado de esos conocimient
 os y la ha formalizado\, cuando ésta debe ser espontánea y divertida par
 a que sea creativa y accesible.\n\nLa música es para todos y estamos en c
 apacidad de desarrollar todo el potencial requerido y hacerla nuestra para
  disfrutarla y compartirla. NUNCA ES TARDE PARA COMENZAR EL APRENDIZAJE MU
 SICAL Y TAMPOCO ES UN PRIVILEGIO SOLO PARA MÚSICOS.\n\nAquí conoceremos 
 las HERRAMIENTAS BÁSICAS para desarrollarla: EJERCICIOS RÍTMICO MELÓDIC
 OS DE PERCUSIÓN Y EXPRESIÓN CORPORAL\, DINÁMICAS PARA RECONOCIMIENTO DE
 L PULSO\, ACENTO Y RITMO\, IMPROVISACIÓN RÍTMICO MELÓDICA\, CANTO\,.. e
 ntre otras.\n\nProf. Francisco Chirino.\n\nColaboración 3$
ATTACH;FMTTYPE=image/jpeg:http://www.nh.com.ve/blog/wp-content/uploads/202
 3/07/taller-dalcroze.jpg
CATEGORIES:Cultural
LOCATION:Teatro NH\, Piso 1\, Edificio Antonela\, C. Paez\, \, Punto Fijo\,
  Falcón\, 4102\, Venezuela
X-APPLE-STRUCTURED-LOCATION;VALUE=URI;X-ADDRESS=Piso 1\, Edificio Antonela\
 , C. Paez\, \, Punto Fijo\, Falcón\, 4102\, Venezuela;X-APPLE-RADIUS=100;
 X-TITLE=Teatro NH:geo:0,0
END:VEVENT
BEGIN:VTIMEZONE
TZID:America/Caracas
X-LIC-LOCATION:America/Caracas
BEGIN:STANDARD
DTSTART:20220721T000000
TZOFFSETFROM:-0400
TZOFFSETTO:-0400
TZNAME:-04
END:STANDARD
END:VTIMEZONE
END:VCALENDAR