BEGIN:VCALENDAR
VERSION:2.0
PRODID:-//wp-events-plugin.com//7.2.3.1//EN
TZID:America/Caracas
X-WR-TIMEZONE:America/Caracas
BEGIN:VEVENT
UID:11@nh.com.ve
DTSTART;TZID=America/Caracas:20241101T083000
DTEND;TZID=America/Caracas:20241101T120000
DTSTAMP:20241031T124243Z
URL:http://www.nh.com.ve/blog/cartelera_teatroNH/taller-gestion-de-emocion
 es/
SUMMARY:Taller GESTIÓN DE EMOCIONES
DESCRIPTION:\nTaller GESTIÓN EMOCIONAL\n\nEste taller de Gestión Emociona
 l proporciona herramientas para reconocer\, comprender y regular las emoci
 ones\, promoviendo un manejo consciente y equilibrado en la vida cotidiana
 . A través de dinámicas como la pausa emocional y la respiración consci
 ente\, los participantes aprenden a identificar y gestionar sus respuestas
  emocionales en diversas situaciones. Además\, se exploran técnicas de m
 indfulness y autocuidado para sostener el bienestar emocional a largo plaz
 o\, concluyendo con una reflexión final que refuerza los aprendizajes adq
 uiridos.\n\n\nENTRADA LIBRE!!!
ATTACH;FMTTYPE=image/jpeg:http://www.nh.com.ve/blog/wp-content/uploads/202
 4/10/flyer-taller-gestion-de-emociones.png
CATEGORIES:Conferencias,Educación,Salud
LOCATION:Teatro NH\, Piso 1\, Edificio Antonela\, C. Paez\, \, Punto Fijo\,
  Falcón\, 4102\, Venezuela
X-APPLE-STRUCTURED-LOCATION;VALUE=URI;X-ADDRESS=Piso 1\, Edificio Antonela\
 , C. Paez\, \, Punto Fijo\, Falcón\, 4102\, Venezuela;X-APPLE-RADIUS=100;
 X-TITLE=Teatro NH:geo:0,0
END:VEVENT
BEGIN:VTIMEZONE
TZID:America/Caracas
X-LIC-LOCATION:America/Caracas
BEGIN:STANDARD
DTSTART:20231102T083000
TZOFFSETFROM:-0400
TZOFFSETTO:-0400
TZNAME:-04
END:STANDARD
END:VTIMEZONE
END:VCALENDAR